BEGIN:VCALENDAR
VERSION:2.0
PRODID:-//Foyer Rural d’Étaules - ECPv6.2.9//NONSGML v1.0//EN
CALSCALE:GREGORIAN
METHOD:PUBLISH
X-ORIGINAL-URL:https://fr17-etaules.foyersruraux.org
X-WR-CALDESC:évènements pour Foyer Rural d’Étaules
REFRESH-INTERVAL;VALUE=DURATION:PT1H
X-Robots-Tag:noindex
X-PUBLISHED-TTL:PT1H
BEGIN:VTIMEZONE
TZID:Europe/Paris
BEGIN:DAYLIGHT
TZOFFSETFROM:+0100
TZOFFSETTO:+0200
TZNAME:CEST
DTSTART:20260329T010000
END:DAYLIGHT
BEGIN:STANDARD
TZOFFSETFROM:+0200
TZOFFSETTO:+0100
TZNAME:CET
DTSTART:20261025T010000
END:STANDARD
END:VTIMEZONE
BEGIN:VEVENT
DTSTART;TZID=Europe/Paris:20261128T100000
DTEND;TZID=Europe/Paris:20261129T180000
DTSTAMP:20260419T140805
CREATED:20260217T174308Z
LAST-MODIFIED:20260217T174643Z
UID:24484-1795860000-1795975200@fr17-etaules.foyersruraux.org
SUMMARY:MARCHÉ DE NOËL
DESCRIPTION:samedi 28 novembre et dimanche 29 novembre 2026 \nde 10h00 à 18h00 sans interruption. \nEntrée Gratuite\, une tombola sera organisée. \nVenez découvrir le travail des artisans locaux présents qui se feront un plaisir de vous accueillir. \nPour réservation d’un emplacement : Contact \nListe des exposants MARCHE DE NOËL_2026 à venir
URL:https://fr17-etaules.foyersruraux.org/evenement/marche-de-noel/
LOCATION:Salle La PLÉIADE d’ÉTAULES\, 35 chemin de Sable\, Etaules\, 17750
END:VEVENT
END:VCALENDAR