BEGIN:VCALENDAR
VERSION:2.0
PRODID:-//Foyer Rural d’Étaules - ECPv6.2.9//NONSGML v1.0//EN
CALSCALE:GREGORIAN
METHOD:PUBLISH
X-ORIGINAL-URL:https://fr17-etaules.foyersruraux.org
X-WR-CALDESC:évènements pour Foyer Rural d’Étaules
REFRESH-INTERVAL;VALUE=DURATION:PT1H
X-Robots-Tag:noindex
X-PUBLISHED-TTL:PT1H
BEGIN:VTIMEZONE
TZID:Europe/Paris
BEGIN:DAYLIGHT
TZOFFSETFROM:+0100
TZOFFSETTO:+0200
TZNAME:CEST
DTSTART:20250330T010000
END:DAYLIGHT
BEGIN:STANDARD
TZOFFSETFROM:+0200
TZOFFSETTO:+0100
TZNAME:CET
DTSTART:20251026T010000
END:STANDARD
END:VTIMEZONE
BEGIN:VEVENT
DTSTART;TZID=Europe/Paris:20250524T200000
DTEND;TZID=Europe/Paris:20250524T220000
DTSTAMP:20260420T205310
CREATED:20240927T143154Z
LAST-MODIFIED:20250503T115211Z
UID:24181-1748116800-1748124000@fr17-etaules.foyersruraux.org
SUMMARY:Représentation THÉÂTRE
DESCRIPTION:La troupe du foyer rural d’Etaules vous propose\n 2 REPRÉSENTATIONS : samedi 24 mai et samedi 31 mai à 20h00              Salle municipale allée William Jonka Etaules\nEntrée : 8€00   (enfants gratuits)              Buvette sur place \nProgramme
URL:https://fr17-etaules.foyersruraux.org/evenement/representation-theatre-2/2025-05-24/
LOCATION:Salle Municipale Armand POTIRON\, Allée William Jonka\, Etaules\, 17750\, France
END:VEVENT
BEGIN:VEVENT
DTSTART;TZID=Europe/Paris:20250531T200000
DTEND;TZID=Europe/Paris:20250531T220000
DTSTAMP:20260420T205310
CREATED:20240927T143154Z
LAST-MODIFIED:20240927T143154Z
UID:24316-1748721600-1748728800@fr17-etaules.foyersruraux.org
SUMMARY:Représentation THÉÂTRE
DESCRIPTION:La troupe du foyer rural d’Etaules vous propose\n 2 REPRÉSENTATIONS : samedi 24 mai et samedi 31 mai à 20h00              Salle municipale allée William Jonka Etaules\nEntrée : 8€00   (enfants gratuits)              Buvette sur place \nProgramme
URL:https://fr17-etaules.foyersruraux.org/evenement/representation-theatre-2/2025-05-31/
LOCATION:Salle Municipale Armand POTIRON\, Allée William Jonka\, Etaules\, 17750\, France
END:VEVENT
END:VCALENDAR