BEGIN:VCALENDAR
VERSION:2.0
PRODID:-//Foyer Rural d’Étaules - ECPv6.2.9//NONSGML v1.0//EN
CALSCALE:GREGORIAN
METHOD:PUBLISH
X-ORIGINAL-URL:https://fr17-etaules.foyersruraux.org
X-WR-CALDESC:évènements pour Foyer Rural d’Étaules
REFRESH-INTERVAL;VALUE=DURATION:PT1H
X-Robots-Tag:noindex
X-PUBLISHED-TTL:PT1H
BEGIN:VTIMEZONE
TZID:Europe/Paris
BEGIN:DAYLIGHT
TZOFFSETFROM:+0100
TZOFFSETTO:+0200
TZNAME:CEST
DTSTART:20250330T010000
END:DAYLIGHT
BEGIN:STANDARD
TZOFFSETFROM:+0200
TZOFFSETTO:+0100
TZNAME:CET
DTSTART:20251026T010000
END:STANDARD
END:VTIMEZONE
BEGIN:VEVENT
DTSTART;TZID=Europe/Paris:20251007T133000
DTEND;TZID=Europe/Paris:20251007T183000
DTSTAMP:20260420T114748
CREATED:20240303T170007Z
LAST-MODIFIED:20240303T170007Z
UID:24331-1759843800-1759861800@fr17-etaules.foyersruraux.org
SUMMARY:CONCOURS DE PETANQUE
DESCRIPTION:CONCOURS DE PETANQUE\nle Mardi après-midi\, 01 juillet 2025\,\navec l’attribution d’un lot à chacun suivant son classement.\nLes inscriptions seront prises à partir de 13 h 30\, pour un lancé de bouchon à 14 h 30.\nPour plus de détails cliquer sur l’intitulé CONCOURS DE PETANQUE
URL:https://fr17-etaules.foyersruraux.org/evenement/concours-de-petanque/2025-10-07/
LOCATION:Boulodrome\, Chemin de Sable\, ETAULES\, 17750
END:VEVENT
BEGIN:VEVENT
DTSTART;TZID=Europe/Paris:20251021T133000
DTEND;TZID=Europe/Paris:20251021T183000
DTSTAMP:20260420T114748
CREATED:20240303T170007Z
LAST-MODIFIED:20240303T170007Z
UID:24332-1761053400-1761071400@fr17-etaules.foyersruraux.org
SUMMARY:CONCOURS DE PETANQUE
DESCRIPTION:CONCOURS DE PETANQUE\nle Mardi après-midi\, 01 juillet 2025\,\navec l’attribution d’un lot à chacun suivant son classement.\nLes inscriptions seront prises à partir de 13 h 30\, pour un lancé de bouchon à 14 h 30.\nPour plus de détails cliquer sur l’intitulé CONCOURS DE PETANQUE
URL:https://fr17-etaules.foyersruraux.org/evenement/concours-de-petanque/2025-10-21/
LOCATION:Boulodrome\, Chemin de Sable\, ETAULES\, 17750
END:VEVENT
BEGIN:VEVENT
DTSTART;TZID=Europe/Paris:20251025T140000
DTEND;TZID=Europe/Paris:20251025T180000
DTSTAMP:20260420T114748
CREATED:20250428T124843Z
LAST-MODIFIED:20250428T124843Z
UID:24304-1761400800-1761415200@fr17-etaules.foyersruraux.org
SUMMARY:CONCOURS DE TAROT
DESCRIPTION:INSCRIPTION ET RÉSERVATION  JUSQU’AU SAMEDI 20 OCTOBRE AU 06 16 34 08 22\nA : Joëlle JACQUELIN\nMAIL : jojacquelin@orange.fr\nté! : 06 16 34 08 22 \nOuverture des Portes : 13h30\nDébut du concours : 14h \n12 euros l’inscription à régler sur place        Un lot pour chaque participant\nGrille tombola 1.50€ \nGoûter : chocolatine + boissons (cidre – rosé – jus d’orange – eau) \n 
URL:https://fr17-etaules.foyersruraux.org/evenement/concours-de-tarot/
LOCATION:Salle Municipale Armand POTIRON\, Allée William Jonka\, Etaules\, 17750\, France
END:VEVENT
END:VCALENDAR